Workbook

Sheet Members Info
G2: =YEAR(TODAY()) -> 2018
C3: Members
B4: Serial Number | C4: Child's Name | D4: Adress | E4: Phone No. | F4: DoB | G4: Year | H4: Age(yrs)
B5: 1 | C5: Nishna | D5: T5 #12-04 | E5: 9898081 | F5: 42857 | G5: 2010 | H5: =G$2-G5 -> 8
B6: 2 | C6: Vigya | D6: T5 #12-04 | E6: 9898081 | F6: 42775 | G6: 2015 | H6: =G$2-G6 -> 3
B7: 3 | C7: Aarav Singhal | D7: T2 #08-01 | E7: 91542008 | F7: 42977 | G7: 2010 | H7: =G$2-G7 -> 8
B8: 4 | C8: Ranbir | D8: T1#13-04 | E8: 98399338 | F8: 43089 | G8: 2011 | H8: =G$2-G8 -> 7
B9: 5 | C9: Raaghav | D9: T1#13-04 | E9: 98399338 | F9: 43031 | G9: 2008 | H9: =G$2-G9 -> 10
B10: 6 | C10: Svojas | D10: T5#06-03 | F10: 42757 | G10: 2016 | H10: =G$2-G10 -> 2
B11: 7 | C11: Ridhima Roy | D11: T4#04-03 | E11: 90616907 | F11: 43050 | G11: 2008 | H11: =G$2-G11 -> 10
B12: 8 | C12: Tavish | D12: T3#03-06 | E12: 85716132 | F12: 42998 | G12: 2009 | H12: =G$2-G12 -> 9
B13: 9 | C13: Dhruv (Singhal) | D13: T2 #08-01 | E13: 91542008 | F13: 43090 | G13: 2005 | H13: =G$2-G13 -> 13
B14: 10 | C14: Shantanu | D14: T2#10-06 | E14: 81339801 | F14: 42863 | G14: 2009 | H14: =G$2-G14 -> 9
B15: 11 | C15: Sai | D15: T5#10-06 | E15: 91062949 | F15: 43068 | G15: 2009 | H15: =G$2-G15 -> 9
B16: 12 | C16: Mihika | D16: T5#02-05 | E16: 91692845(Amit) | F16: 42737 | G16: 2010 | H16: =G$2-G16 -> 8
B17: 13 | C17: Jayita | D17: T5#10-06 | E17: 91062949 | F17: 43037 | G17: 2006 | H17: =G$2-G17 -> 12
B18: 14 | C18: Sudhi | D18: T5#09-03 | E18: 94708491 | F18: 43007 | G18: 2010 | H18: =G$2-G18 -> 8
B19: 15 | C19: Alakh | D19: T5#09-03 | E19: 94708491 | F19: 43007 | G19: 2010 | H19: =G$2-G19 -> 8
B20: 16 | C20: Ayami | D20: T4#14-04 | E20: 93406749 | F20: 42796 | G20: 2015 | H20: =G$2-G20 -> 3
B21: 17 | C21: Eshaan | D21: T1#11-02 | E21: 98582594(pawan) | F21: 43086 | G21: 2009 | H21: =G$2-G21 -> 9
B22: 18 | C22: Mishka | D22: T1#09-02 | E22: 97278256 | F22: 42801 | G22: 2012 | H22: =G$2-G22 -> 6
B23: 19 | C23: Rucha | D23: T1#02-06 | E23: 83473129 | F23: 43026 | G23: 2011 | H23: =G$2-G23 -> 7
B24: 20 | C24: Aarav Jha | D24: T6#03-01 | E24: 84570960 | F24: 42964 | G24: 2012 | H24: =G$2-G24 -> 6
B25: 21 | C25: Arvind | D25: T4#13-06 | E25: 94597860 | F25: 42896 | G25: 2008 | H25: =G$2-G25 -> 10
B26: 22 | C26: Kapeesh | D26: T2#02-02 | E26: 91476623 | F26: 43083 | G26: 2008 | H26: =G$2-G26 -> 10
B27: 23 | C27: Arsh Vir | D27: T6#13-02 | E27: 81436248 | F27: 43009 | G27: 2015 | H27: =G$2-G27 -> 3
B28: 24 | C28: Tejashree Vijay | D28: T5#11-02 | E28: 82637232 | F28: 42870 | G28: 2013 | H28: =G$2-G28 -> 5
B29: 25 | C29: Kaveesh Tak | D29: T2#02-02 | E29: 91476623 | F29: 42747 | G29: 2015 | H29: =G$2-G29 -> 3
B30: 26 | C30: Hemang Dubey (Vishu) | D30: T4#02-02 | E30: 92447588 | F30: 42894 | G30: 2006 | H30: =G$2-G30 -> 12
B31: 27 | C31: Keshav Anand | D31: T5 #10-05 | E31: 91 9840247130 | F31: 42887 | G31: 2013 | H31: =G$2-G31 -> 5
B32: 28 | C32: Anaisha Srivastava | D32: T2 #13-05 | E32: 91373486 | F32: 42923 | G32: 2012 | H32: =G$2-G32 -> 6
B33: 29 | C33: Tiya Patil | D33: T3 #13-03 | E33: 90219565 | F33: 42918 | G33: 2012 | H33: =G$2-G33 -> 6
B34: 30 | C34: Riya Patil | D34: T3 #13-03 | E34: 90219565 | F34: 41971 | G34: 2014 | H34: =G$2-G34 -> 4

Sheet Books Database
B1: Book Number | C1: Book Name
B2: 1 | C2: Cinderella Mini Storybook
B3: 2 | C3: Big Barry Baker on the stage
B4: 3 | C4: Milly, Molly and the wind
B5: 4 | C5: Milly and Molly Go Camping
B6: 5 | C6: Mily, Molly and Heidi untidy
B7: 6 | C7: Milly, Molly and the Mountain
B8: 7 | C8: Milly, Molly and Mipper
B9: 8 | C9: Milly, Molly and the tree Hut
B10: 9 | C10: Milly, Molly and the Magic Muffins
B11: 10 | C11: Milly, Molly and BushBob
B12: 11 | C12: Milly, Molly and Aunt Maude
B13: 12 | C13: The return of Ram
... B461: 460 | C461: My First words ( Board Book)

Sheet Borrowing database
E1: Kidz Library
E2: Rules
E3: 1 | F3: FREE
E4: 2 | F4: Open on Tuesday & Friday evening 6-8 pm
E5: 3 | F5: Loan for 1 week
E6: 4 | F6: Loan 3 items at a time
E7: 5 | F7: Penalty- based on damage done and value of the book/toy
D11: Books'
B12: Key | C12: Serial Number | D12: Name of Borrower | E12: Name of the Book | F12: Number of Book | G12: Issue Date | H12: Due Date | I12: Date Returned
B13: =F13&D13 -> 54Aarav Singhal | C13: 1 | D13: Aarav Singhal | E13: =VLOOKUP(F13,'Books Database'!B$2:C$500,2,0) -> Harry goes to hong kong | F13: 54 | G13: 42857 | H13: =G13+7 -> 42864 | I13: 42864
B14: =F14&D14 -> 60Ranbir | C14: 2 | D14: Ranbir | E14: =VLOOKUP(F14,'Books Database'!B$2:C$500,2,0) -> Noddy - A bike for Big ears | F14: 60 | G14: 42857 | H14: =G14+7 -> 42864 | I14: 42864
B15: =F15&D15 -> 80Ranbir | C15: 3 | D15: Ranbir | E15: =VLOOKUP(F15,'Books Database'!B$2:C$500,2,0) -> Hold your head High little Giraffe | F15: 80 | G15: 42857 | H15: =G15+7 -> 42864 | I15: 42864
B16: =F16&D16 -> 53Ranbir | C16: 4 | D16: Ranbir | E16: =VLOOKUP(F16,'Books Database'!B$2:C$500,2,0) -> The adventures of Thomas-Donald's duck and thomas, percy and the post train | F16: 53 | G16: 42857 | H16: =G16+7 -> 42864 | I16: 42864
B17: =F17&D17 -> 62Raghav | C17: 5 | D17: Raghav | E17: =VLOOKUP(F17,'Books Database'!B$2:C$500,2,0) -> My treasury of Good night stories | F17: 62 | G17: 42857 | H17: =G17+7 -> 42864 | I17: 42864
B18: =F18&D18 -> 70Raghav | C18: 6 | D18: Raghav | E18: =VLOOKUP(F18,'Books Database'!B$2:C$500,2,0) -> Treasury of Classic Stories | F18: 70 | G18: 42857 | H18: =G18+7 -> 42864 | I18: 42864
B19: =F19&D19 -> 56Raghav | C19: 7 | D19: Raghav | E19: =VLOOKUP(F19,'Books Database'!B$2:C$500,2,0) -> The ugly old Scarecrow | F19: 56 | G19: 42857 | H19: =G19+7 -> 42864 | I19: 42864
B20: =F20&D20 -> 107Svojas | C20: 8 | D20: Svojas | E20: =VLOOKUP(F20,'Books Database'!B$2:C$500,2,0) -> Ni Hao Kai-Lan | F20: 107 | G20: 42857 | H20: =G20+7 -> 42864 | I20: 42867
B21: =F21&D21 -> 45Ridhima | C21: 9 | D21: Ridhima | E21: =VLOOKUP(F21,'Books Database'!B$2:C$500,2,0) -> Julia the sleeping beauty fairy | F21: 45 | G21: 42857 | H21: =G21+7 -> 42864 | I21: 42866
B22: =F22&D22 -> 64Ridhima | C22: 10 | D22: Ridhima | E22: =VLOOKUP(F22,'Books Database'!B$2:C$500,2,0) -> Lydia the reading fairy | F22: 64 | G22: 42857 | H22: =G22+7 -> 42864 | I22: 42866
B23: =F23&D23 -> 46Ridhima | C23: 11 | D23: Ridhima | E23: =VLOOKUP(F23,'Books Database'!B$2:C$500,2,0) -> Eleanor the snow white Fairy | F23: 46 | G23: 42857 | H23: =G23+7 -> 42864 | I23: 42866
B24: =F24&D24 -> 37Tavish | C24: 12 | D24: Tavish | E24: =VLOOKUP(F24,'Books Database'!B$2:C$500,2,0) -> Curious George visits the library | F24: 37 | G24: 42857 | H24: =G24+7 -> 42864 | I24: 42864
... B185: =F185&D185 -> 51Tavish | C185: 173 | D185: Tavish | E185: =VLOOKUP(F185,'Books Database'!B$2:C$500,2,0) -> The magic school bus meets the rots squad | F185: 51 | G185: 42899 | H185: =G185+7 -> 42906 | I185: 42902
C186: 174 | D186: Ranbir | E186: =VLOOKUP(F186,'Books Database'!B$2:C$500,2,0) -> Ladybug girl | F186: 55 | G186: 42899 | H186: =G186+7 -> 42906 | I186: 42902
C187: 175 | D187: Ranbir | E187: =VLOOKUP(F187,'Books Database'!B$2:C$500,2,0) -> Moral Stories lessons for life | F187: 74 | G187: 42899 | H187: =G187+7 -> 42906 | I187: 42902
C188: 176 | D188: Raghav | E188: =VLOOKUP(F188,'Books Database'!B$2:C$500,2,0) -> Aesop's Fables - a treasured collection of 12 enchanting tales | F188: 84 | G188: 42899 | H188: =G188+7 -> 42906 | I188: 42902
C189: 177 | D189: Raghav | E189: =VLOOKUP(F189,'Books Database'!B$2:C$500,2,0) -> The Three Musketeers | F189: 155 | G189: 42899 | H189: =G189+7 -> 42906 | I189: 42902
C190: 178 | D190: Raghav | E190: =VLOOKUP(F190,'Books Database'!B$2:C$500,2,0) -> National Geographic - Dinosaurs Take wings | F190: 158 | G190: 42899 | H190: =G190+7 -> 42906 | I190: 42902
C191: 179 | D191: Eshaan | E191: =VLOOKUP(F191,'Books Database'!B$2:C$500,2,0) -> Hold your head High little Giraffe | F191: 80 | G191: 42899 | H191: =G191+7 -> 42906 | I191: 42941
C192: 180 | D192: Eshaan | E192: =VLOOKUP(F192,'Books Database'!B$2:C$500,2,0) -> The clever crow and other stories | F192: 72 | G192: 42899 | H192: =G192+7 -> 42906 | I192: 42941
C193: 181 | D193: Eshaan | E193: =VLOOKUP(F193,'Books Database'!B$2:C$500,2,0) -> Aladdin and the magic Lamp | F193: 78 | G193: 42899 | H193: =G193+7 -> 42906 | I193: 42941
C194: 182 | D194: Hemang Dubey | E194: =VLOOKUP(F194,'Books Database'!B$2:C$500,2,0) -> The Elves and the shoemaker | F194: 21 | G194: 42899 | H194: =G194+7 -> 42906 | I194: 42899
C195: 183 | D195: Hemang Dubey | E195: =VLOOKUP(F195,'Books Database'!B$2:C$500,2,0) -> Mamba and the crocodile bird | F195: 19 | G195: 42899 | H195: =G195+7 -> 42906 | I195: 42899
C196: 184 | D196: Hemang Dubey | E196: =VLOOKUP(F196,'Books Database'!B$2:C$500,2,0) -> Vikas - Rangbirangi Kahaniyaan (Hindi) | F196: 134 | G196: 42899 | H196: =G196+7 -> 42906 | I196: 42899
C197: 185 | D197: Aarav Jha | E197: =VLOOKUP(F197,'Books Database'!B$2:C$500,2,0) -> Amelia Bedelia & the Surprise Shower | F197: 123 | G197: 42899 | H197: =G197+7 -> 42906 | I197: 42902
... C199: 187 | D199: Aarav Jha | E199: =VLOOKUP(F199,'Books Database'!B$2:C$500,2,0) -> Harry goes to hong kong | F199: 54 | G199: 42899 | H199: =G199+7 -> 42906 | I199: 42902
C200: 188 | D200: Rucha | E200: =VLOOKUP(F200,'Books Database'!B$2:C$500,2,0) -> Bread and jam for Frances | F200: 49 | G200: 42902 | H200: 42920
C201: 189 | D201: Rucha | E201: =VLOOKUP(F201,'Books Database'!B$2:C$500,2,0) -> Noddy - A bike for Big ears | F201: 60 | G201: 42902 | H201: 42920
C202: 190 | D202: Rucha | E202: =VLOOKUP(F202,'Books Database'!B$2:C$500,2,0) -> A mad tea-party (Alice's adventures in wonderland) | F202: 92 | G202: 42902 | H202: 42920
C203: 191 | D203: Rucha | E203: =VLOOKUP(F203,'Books Database'!B$2:C$500,2,0) -> The fish that talked | F203: 57 | G203: 42902 | H203: 42920
C204: 192 | D204: Rucha | E204: =VLOOKUP(F204,'Books Database'!B$2:C$500,2,0) -> Chocolate chip muffins | F204: 125 | G204: 42902 | H204: 42920
...

Sheet Sheet3
B5: Book Number | C5: Book Name | D5: Borrower | E5: Issue Date | F5: Due Date | G5: Date Returned
A6: =COUNTIF('Borrowing database'!F:F,Sheet3!B6) -> 4 | B6: 1 | C6: Cinderella Mini Storybook | D6: Mihika | E6: =INDEX('Borrowing database'!G:G,MATCH(Sheet3!B6&Sheet3!D6,'Borrowing database'!B:B,0)) -> 42857 | F6: =E6+7 -> 42864 | G6: =INDEX('Borrowing database'!I:I,MATCH(Sheet3!B6&Sheet3!D6,'Borrowing database'!B:B,0)) -> 42867
A7: =COUNTIF('Borrowing database'!F:F,Sheet3!B7) -> 2 | B7: 2 | C7: Big Barry Baker on the stage
A8: =COUNTIF('Borrowing database'!F:F,Sheet3!B8) -> 3 | B8: 3 | C8: Milly, Molly and the wind | D8: Ayami | E8: =INDEX('Borrowing database'!G:G,MATCH(Sheet3!B8&Sheet3!D8,'Borrowing database'!B:B,0)) -> 42857 | F8: =E8+7 -> 42864 | G8: =INDEX('Borrowing database'!I:I,MATCH(Sheet3!B8&Sheet3!D8,'Borrowing database'!B:B,0)) -> 42864
A9: =COUNTIF('Borrowing database'!F:F,Sheet3!B9) -> 1 | B9: 4 | C9: Milly and Molly Go Camping
A10: =COUNTIF('Borrowing database'!F:F,Sheet3!B10) -> 1 | B10: 5 | C10: Mily, Molly and Heidi untidy
A11: =COUNTIF('Borrowing database'!F:F,Sheet3!B11) -> 1 | B11: 6 | C11: Milly, Molly and the Mountain
A12: =COUNTIF('Borrowing database'!F:F,Sheet3!B12) -> 3 | B12: 7 | C12: Milly, Molly and Mipper | D12: Ayami | E12: =INDEX('Borrowing database'!G:G,MATCH(Sheet3!B12&Sheet3!D12,'Borrowing database'!B:B,0)) -> 42857 | F12: =E12+7 -> 42864 | G12: =INDEX('Borrowing database'!I:I,MATCH(Sheet3!B12&Sheet3!D12,'Borrowing database'!B:B,0)) -> 42864
A13: =COUNTIF('Borrowing database'!F:F,Sheet3!B13) -> 1 | B13: 8 | C13: Milly, Molly and the tree Hut
A14: =COUNTIF('Borrowing database'!F:F,Sheet3!B14) -> 3 | B14: 9 | C14: Milly, Molly and the Magic Muffins | D14: Ayami | E14: =INDEX('Borrowing database'!G:G,MATCH(Sheet3!B14&Sheet3!D14,'Borrowing database'!B:B,0)) -> 42857 | F14: =E14+7 -> 42864 | G14: =INDEX('Borrowing database'!I:I,MATCH(Sheet3!B14&Sheet3!D14,'Borrowing database'!B:B,0)) -> 42864
A15: =COUNTIF('Borrowing database'!F:F,Sheet3!B15) -> 1 | B15: 10 | C15: Milly, Molly and BushBob
A16: =COUNTIF('Borrowing database'!F:F,Sheet3!B16) -> 1 | B16: 11 | C16: Milly, Molly and Aunt Maude
A17: =COUNTIF('Borrowing database'!F:F,Sheet3!B17) -> 0 | B17: 12 | C17: The return of Ram
A18: =COUNTIF('Borrowing database'!F:F,Sheet3!B18) -> 3 | B18: 13 | C18: My Daddy and I | D18: Mishka | E18: =INDEX('Borrowing database'!G:G,MATCH(Sheet3!B18&Sheet3!D18,'Borrowing database'!B:B,0)) -> 42864 | F18: =E18+7 -> 42871 | G18: =INDEX('Borrowing database'!I:I,MATCH(Sheet3!B18&Sheet3!D18,'Borrowing database'!B:B,0)) -> 42871
A19: =COUNTIF('Borrowing database'!F:F,Sheet3!B19) -> 1 | B19: 14 | C19: The trouble with Mum
A20: =COUNTIF('Borrowing database'!F:F,Sheet3!B20) -> 3 | B20: 15 | C20: The trouble with Grandad | D20: Svojas | E20: =INDEX('Borrowing database'!G:G,MATCH(Sheet3!B20&Sheet3!D20,'Borrowing database'!B:B,0)) -> 42867 | F20: =E20+7 -> 42874 | G20: =INDEX('Borrowing database'!I:I,MATCH(Sheet3!B20&Sheet3!D20,'Borrowing database'!B:B,0)) -> 42892
A21: =COUNTIF('Borrowing database'!F:F,Sheet3!B21) -> 1 | B21: 16 | C21: The trouble with Gran | D21: Mishka | E21: =INDEX('Borrowing database'!G:G,MATCH(Sheet3!B21&Sheet3!D21,'Borrowing database'!B:B,0)) -> 42864 | F21: =E21+7 -> 42871 | G21: =INDEX('Borrowing database'!I:I,MATCH(Sheet3!B21&Sheet3!D21,'Borrowing database'!B:B,0)) -> 42871
A22: =COUNTIF('Borrowing database'!F:F,Sheet3!B22) -> 1 | B22: 17 | C22: Ish
A23: =COUNTIF('Borrowing database'!F:F,Sheet3!B23) -> 1 | B23: 18 | C23: Duma and the Lion | D23: Ranbir | E23: =INDEX('Borrowing database'!G:G,MATCH(Sheet3!B23&Sheet3!D23,'Borrowing database'!B:B,0)) -> 42864 | F23: =E23+7 -> 42871 | G23: =INDEX('Borrowing database'!I:I,MATCH(Sheet3!B23&Sheet3!D23,'Borrowing database'!B:B,0)) -> 42143
A24: =COUNTIF('Borrowing database'!F:F,Sheet3!B24) -> 3 | B24: 19 | C24: Mamba and the crocodile bird
A25: =COUNTIF('Borrowing database'!F:F,Sheet3!B25) -> 1 | B25: 20 | C25: The new boy
A26: =COUNTIF('Borrowing database'!F:F,Sheet3!B26) -> 2 | B26: 21 | C26: The Elves and the shoemaker
A27: =COUNTIF('Borrowing database'!F:F,Sheet3!B27) -> 2 | B27: 22 | C27: Twiga and the moon | D27: Svojas | E27: =INDEX('Borrowing database'!G:G,MATCH(Sheet3!B27&Sheet3!D27,'Borrowing database'!B:B,0)) -> 42867 | F27: =E27+7 -> 42874 | G27: =INDEX('Borrowing database'!I:I,MATCH(Sheet3!B27&Sheet3!D27,'Borrowing database'!B:B,0)) -> 42892
A28: =COUNTIF('Borrowing database'!F:F,Sheet3!B28) -> 3 | B28: 23 | C28: The frog prince
A29: =COUNTIF('Borrowing database'!F:F,Sheet3!B29) -> 2 | B29: 24 | C29: The Magic Trident | D29: Kapeesh | E29: =INDEX('Borrowing database'!G:G,MATCH(Sheet3!B29&Sheet3!D29,'Borrowing database'!B:B,0)) -> 42864 | F29: =E29+7 -> 42871 | G29: =INDEX('Borrowing database'!I:I,MATCH(Sheet3!B29&Sheet3!D29,'Borrowing database'!B:B,0)) -> 42871
A30: =COUNTIF('Borrowing database'!F:F,Sheet3!B30) -> 1 | B30: 25 | C30: Milly, Molly and Sock Heaven
A31: =COUNTIF('Borrowing database'!F:F,Sheet3!B31) -> 2 | B31: 26 | C31: Ice Age Dawn of the Dinosaurs All in the family | D31: Rucha | E31: =INDEX('Borrowing database'!G:G,MATCH(Sheet3!B31&Sheet3!D31,'Borrowing database'!B:B,0)) -> 42860 | F31: =E31+7 -> 42867 | G31: =INDEX('Borrowing database'!I:I,MATCH(Sheet3!B31&Sheet3!D31,'Borrowing database'!B:B,0)) -> 42867
A32: =COUNTIF('Borrowing database'!F:F,Sheet3!B32) -> 0 | B32: 27 | C32: The Three Apples Sindbad the sailor
A33: =COUNTIF('Borrowing database'!F:F,Sheet3!B33) -> 4 | B33: 28 | C33: Stories of Tenali Raman (goddess Kali, court poet) | D33: Mishka | E33: =INDEX('Borrowing database'!G:G,MATCH(Sheet3!B33&Sheet3!D33,'Borrowing database'!B:B,0)) -> 42860 | F33: =E33+7 -> 42867 | G33: =INDEX('Borrowing database'!I:I,MATCH(Sheet3!B33&Sheet3!D33,'Borrowing database'!B:B,0)) -> 42864
A34: =COUNTIF('Borrowing database'!F:F,Sheet3!B34) -> 2 | B34: 29 | C34: Isem in Grumpy town
A35: =COUNTIF('Borrowing database'!F:F,Sheet3!B35) -> 0 | B35: 30 | C35: Vikas stories for Children (violet Book)
A36: =COUNTIF('Borrowing database'!F:F,Sheet3!B36) -> 3 | B36: 31 | C36: Vikas stories for Children (Brown Book) | D36: Kapeesh | E36: =INDEX('Borrowing database'!G:G,MATCH(Sheet3!B36&Sheet3!D36,'Borrowing database'!B:B,0)) -> 42864 | F36: =E36+7 -> 42871 | G36: =INDEX('Borrowing database'!I:I,MATCH(Sheet3!B36&Sheet3!D36,'Borrowing database'!B:B,0)) -> 42871
A37: =COUNTIF('Borrowing database'!F:F,Sheet3!B37) -> 1 | B37: 32 | C37: Little Daisy's red rose | D37: Alakh | E37: =INDEX('Borrowing database'!G:G,MATCH(Sheet3!B37&Sheet3!D37,'Borrowing database'!B:B,0)) -> 42857 | F37: =E37+7 -> 42864 | G37: =INDEX('Borrowing database'!I:I,MATCH(Sheet3!B37&Sheet3!D37,'Borrowing database'!B:B,0)) -> 42864
A38: =COUNTIF('Borrowing database'!F:F,Sheet3!B38) -> 2 | B38: 33 | C38: March First | D38: Dhruv | E38: =INDEX('Borrowing database'!G:G,MATCH(Sheet3!B38&Sheet3!D38,'Borrowing database'!B:B,0)) -> 42860 | F38: =E38+7 -> 42867 | G38: =INDEX('Borrowing database'!I:I,MATCH(Sheet3!B38&Sheet3!D38,'Borrowing database'!B:B,0)) -> 42864
A39: =COUNTIF('Borrowing database'!F:F,Sheet3!B39) -> 1 | B39: 34 | C39: Curios George flies a kite
A40: =COUNTIF('Borrowing database'!F:F,Sheet3!B40) -> 3 | B40: 35 | C40: Mr Green Man and Mr Red Man | D40: Alakh | E40: =INDEX('Borrowing database'!G:G,MATCH(Sheet3!B40&Sheet3!D40,'Borrowing database'!B:B,0)) -> 42857 | G40: =INDEX('Borrowing database'!I:I,MATCH(Sheet3!B40&Sheet3!D40,'Borrowing database'!B:B,0)) -> 42864
A41: =COUNTIF('Borrowing database'!F:F,Sheet3!B41) -> 3 | B41: 36 | C41: Little Red Riding Hood | D41: Mihika | E41: =INDEX('Borrowing database'!G:G,MATCH(Sheet3!B41&Sheet3!D41,'Borrowing database'!B:B,0)) -> 42857 | G41: =INDEX('Borrowing database'!I:I,MATCH(Sheet3!B41&Sheet3!D41,'Borrowing database'!B:B,0)) -> 42867
A42: =COUNTIF('Borrowing database'!F:F,Sheet3!B42) -> 3 | B42: 37 | C42: Curios George visits the library | D42: Rucha | E42: =INDEX('Borrowing database'!G:G,MATCH(Sheet3!B42&Sheet3!D42,'Borrowing database'!B:B,0)) -> 42867 | G42: =INDEX('Borrowing database'!I:I,MATCH(Sheet3!B42&Sheet3!D42,'Borrowing database'!B:B,0)) -> 42871
A43: =COUNTIF('Borrowing database'!F:F,Sheet3!B43) -> 3 | B43: 38 | C43: Curios George goes to a chocolate factory | D43: Tavish | E43: =INDEX('Borrowing database'!G:G,MATCH(Sheet3!B43&Sheet3!D43,'Borrowing database'!B:B,0)) -> 42857 | G43: =INDEX('Borrowing database'!I:I,MATCH(Sheet3!B43&Sheet3!D43,'Borrowing database'!B:B,0)) -> 42864
A44: =COUNTIF('Borrowing database'!F:F,Sheet3!B44) -> 2 | B44: 39 | C44: Curios George and the dinosaur | D44: Aarav Jha | E44: =INDEX('Borrowing database'!G:G,MATCH(Sheet3!B44&Sheet3!D44,'Borrowing database'!B:B,0)) -> 42860
...

Sheet Activities
C2: Date | D2: Activity | E2: Participants
C3: 42923 | D3: Origami art | E3: By Nishna - Ridhima, Mihika, Mishka, Sai, Sudhi
C4: 42928 | D4: Origami art | E4: By Sai - Nishna, Shantanu, Mihika, Tavish
C5: 42929 | D5: Origami art | E5: By Tavish - Kapeesh, Mihika

Sheet Sheet1
