Workbook

Sheet Members Info
G2: =YEAR(TODAY()) -> 2018
C3: Members
B4: Serial Number | C4: Child's Name | D4: Adress | E4: Phone No. | F4: DoB | G4: Year | H4: Age(yrs)
B5: 1 | C5: Nishna | D5: T5 #12-04 | E5: 9898081 | F5: 42857 | G5: 2010 | H5: =G$2-G5 -> 8
B6: 2 | C6: Vigya | D6: T5 #12-04 | E6: 9898081 | F6: 42775 | G6: 2015 | H6: =G$2-G6 -> 3
B7: 3 | C7: Aarav Singhal | D7: T2 #08-01 | E7: 91542008 | F7: 42977 | G7: 2010 | H7: =G$2-G7 -> 8
B8: 4 | C8: Ranbir | D8: T1#13-04 | E8: 98399338 | F8: 43089 | G8: 2011 | H8: =G$2-G8 -> 7
B9: 5 | C9: Raaghav | D9: T1#13-04 | E9: 98399338 | F9: 43031 | G9: 2008 | H9: =G$2-G9 -> 10
B10: 6 | C10: Svojas | D10: T5#06-03 | F10: 42757 | G10: 2016 | H10: =G$2-G10 -> 2
B11: 7 | C11: Ridhima Roy | D11: T4#04-03 | E11: 90616907 | F11: 43050 | G11: 2008 | H11: =G$2-G11 -> 10
B12: 8 | C12: Tavish | D12: T3#03-06 | E12: 85716132 | F12: 42998 | G12: 2009 | H12: =G$2-G12 -> 9
B13: 9 | C13: Dhruv (Singhal) | D13: T2 #08-01 | E13: 91542008 | F13: 43090 | G13: 2005 | H13: =G$2-G13 -> 13
B14: 10 | C14: Shantanu | D14: T2#10-06 | E14: 81339801 | F14: 42863 | G14: 2009 | H14: =G$2-G14 -> 9
B15: 11 | C15: Sai | D15: T5#10-06 | E15: 91062949 | F15: 43068 | G15: 2009 | H15: =G$2-G15 -> 9
B16: 12 | C16: Mihika | D16: T5#02-05 | E16: 91692845(Amit) | F16: 42737 | G16: 2010 | H16: =G$2-G16 -> 8
B17: 13 | C17: Jayita | D17: T5#10-06 | E17: 91062949 | F17: 43037 | G17: 2006 | H17: =G$2-G17 -> 12
B18: 14 | C18: Sudhi | D18: T5#09-03 | E18: 94708491 | F18: 43007 | G18: 2010 | H18: =G$2-G18 -> 8
B19: 15 | C19: Alakh | D19: T5#09-03 | E19: 94708491 | F19: 43007 | G19: 2010 | H19: =G$2-G19 -> 8
B20: 16 | C20: Ayami | D20: T4#14-04 | E20: 93406749 | F20: 42796 | G20: 2015 | H20: =G$2-G20 -> 3
B21: 17 | C21: Eshaan | D21: T1#11-02 | E21: 98582594(pawan) | F21: 43086 | G21: 2009 | H21: =G$2-G21 -> 9
B22: 18 | C22: Mishka | D22: T1#09-02 | E22: 97278256 | F22: 42801 | G22: 2012 | H22: =G$2-G22 -> 6
B23: 19 | C23: Rucha | D23: T1#02-06 | E23: 83473129 | F23: 43026 | G23: 2011 | H23: =G$2-G23 -> 7
B24: 20 | C24: Aarav Jha | D24: T6#03-01 | E24: 84570960 | F24: 42964 | G24: 2012 | H24: =G$2-G24 -> 6
B25: 21 | C25: Arvind | D25: T4#13-06 | E25: 94597860 | F25: 42896 | G25: 2008 | H25: =G$2-G25 -> 10
B26: 22 | C26: Kapeesh | D26: T2#02-02 | E26: 91476623 | F26: 43083 | G26: 2008 | H26: =G$2-G26 -> 10
B27: 23 | C27: Arsh Vir | D27: T6#13-02 | E27: 81436248 | F27: 43009 | G27: 2015 | H27: =G$2-G27 -> 3
B28: 24 | C28: Tejashree Vijay | D28: T5#11-02 | E28: 82637232 | F28: 42870 | G28: 2013 | H28: =G$2-G28 -> 5
B29: 25 | C29: Kaveesh Tak | D29: T2#02-02 | E29: 91476623 | F29: 42747 | G29: 2015 | H29: =G$2-G29 -> 3
B30: 26 | C30: Hemang Dubey (Vishu) | D30: T4#02-02 | E30: 92447588 | F30: 42894 | G30: 2006 | H30: =G$2-G30 -> 12
B31: 27 | C31: Keshav Anand | D31: T5 #10-05 | E31: 91 9840247130 | F31: 42887 | G31: 2013 | H31: =G$2-G31 -> 5
B32: 28 | C32: Anaisha Srivastava | D32: T2 #13-05 | E32: 91373486 | F32: 42923 | G32: 2012 | H32: =G$2-G32 -> 6
B33: 29 | C33: Tiya Patil | D33: T3 #13-03 | E33: 90219565 | F33: 42918 | G33: 2012 | H33: =G$2-G33 -> 6
B34: 30 | C34: Riya Patil | D34: T3 #13-03 | E34: 90219565 | F34: 41971 | G34: 2014 | H34: =G$2-G34 -> 4

Sheet Books Database
B1: Book Number | C1: Book Name
B2: 1 | C2: Cinderella Mini Storybook
B3: 2 | C3: Big Barry Baker on the stage
B4: 3 | C4: Milly, Molly and the wind
B5: 4 | C5: Milly and Molly Go Camping
B6: 5 | C6: Mily, Molly and Heidi untidy
B7: 6 | C7: Milly, Molly and the Mountain
B8: 7 | C8: Milly, Molly and Mipper
B9: 8 | C9: Milly, Molly and the tree Hut
B10: 9 | C10: Milly, Molly and the Magic Muffins
B11: 10 | C11: Milly, Molly and BushBob
B12: 11 | C12: Milly, Molly and Aunt Maude
B13: 12 | C13: The return of Ram
... B461: 460 | C461: My First words ( Board Book)

Sheet Borrowing database
E1: Kidz Library
E2: Rules
E3: 1 | F3: FREE
E4: 2 | F4: Open on Tuesday & Friday evening 6-8 pm
E5: 3 | F5: Loan for 1 week
E6: 4 | F6: Loan 3 items at a time
E7: 5 | F7: Penalty- based on damage done and value of the book/toy
D11: Books'
B12: Key | C12: Serial Number | D12: Name of Borrower | E12: Name of the Book | F12: Number of Book | G12: Issue Date | H12: Due Date | I12: Date Returned
B13: =F13&D13 -> 54Aarav Singhal | C13: 1 | D13: Aarav Singhal | E13: =VLOOKUP(F13,'Books Database'!B$2:C$500,2,0) -> Harry goes to hong kong | F13: 54 | G13: 42857 | H13: =G13+7 -> 42864 | I13: 42864
B14: =F14&D14 -> 60Ranbir | C14: 2 | D14: Ranbir | E14: =VLOOKUP(F14,'Books Database'!B$2:C$500,2,0) -> Noddy - A bike for Big ears | F14: 60 | G14: 42857 | H14: =G14+7 -> 42864 | I14: 42864
B15: =F15&D15 -> 80Ranbir | C15: 3 | D15: Ranbir | E15: =VLOOKUP(F15,'Books Database'!B$2:C$500,2,0) -> Hold your head High little Giraffe | F15: 80 | G15: 42857 | H15: =G15+7 -> 42864 | I15: 42864
B16: =F16&D16 -> 53Ranbir | C16: 4 | D16: Ranbir | E16: =VLOOKUP(F16,'Books Database'!B$2:C$500,2,0) -> The adventures of Thomas-Donald's duck and thomas, percy and the post train | F16: 53 | G16: 42857 | H16: =G16+7 -> 42864 | I16: 42864
B17: =F17&D17 -> 62Raghav | C17: 5 | D17: Raghav | E17: =VLOOKUP(F17,'Books Database'!B$2:C$500,2,0) -> My treasury of Good night stories | F17: 62 | G17: 42857 | H17: =G17+7 -> 42864 | I17: 42864
B18: =F18&D18 -> 70Raghav | C18: 6 | D18: Raghav | E18: =VLOOKUP(F18,'Books Database'!B$2:C$500,2,0) -> Treasury of Classic Stories | F18: 70 | G18: 42857 | H18: =G18+7 -> 42864 | I18: 42864
B19: =F19&D19 -> 56Raghav | C19: 7 | D19: Raghav | E19: =VLOOKUP(F19,'Books Database'!B$2:C$500,2,0) -> The ugly old Scarecrow | F19: 56 | G19: 42857 | H19: =G19+7 -> 42864 | I19: 42864
B20: =F20&D20 -> 107Svojas | C20: 8 | D20: Svojas | E20: =VLOOKUP(F20,'Books Database'!B$2:C$500,2,0) -> Ni Hao Kai-Lan | F20: 107 | G20: 42857 | H20: =G20+7 -> 42864 | I20: 42867
B21: =F21&D21 -> 45Ridhima | C21: 9 | D21: Ridhima | E21: =VLOOKUP(F21,'Books Database'!B$2:C$500,2,0) -> Julia the sleeping beauty fairy | F21: 45 | G21: 42857 | H21: =G21+7 -> 42864 | I21: 42866
B22: =F22&D22 -> 64Ridhima | C22: 10 | D22: Ridhima | E22: =VLOOKUP(F22,'Books Database'!B$2:C$500,2,0) -> Lydia the reading fairy | F22: 64 | G22: 42857 | H22: =G22+7 -> 42864 | I22: 42866
B23: =F23&D23 -> 46Ridhima | C23: 11 | D23: Ridhima | E23: =VLOOKUP(F23,'Books Database'!B$2:C$500,2,0) -> Eleanor the snow white Fairy | F23: 46 | G23: 42857 | H23: =G23+7 -> 42864 | I23: 42866
B24: =F24&D24 -> 37Tavish | C24: 12 | D24: Tavish | E24: =VLOOKUP(F24,'Books Database'!B$2:C$500,2,0) -> Curious George visits the library | F24: 37 | G24: 42857 | H24: =G24+7 -> 42864 | I24: 42864
... B185: =F185&D185 -> 51Tavish | C185: 173 | D185: Tavish | E185: =VLOOKUP(F185,'Books Database'!B$2:C$500,2,0) -> The magic school bus meets the rots squad | F185: 51 | G185: 42899 | H185: =G185+7 -> 42906 | I185: 42902
C186: 174 | D186: Ranbir | E186: =VLOOKUP(F186,'Books Database'!B$2:C$500,2,0) -> Ladybug girl | F186: 55 | G186: 42899 | H186: =G186+7 -> 42906 | I186: 42902
C187: 175 | D187: Ranbir | E187: =VLOOKUP(F187,'Books Database'!B$2:C$500,2,0) -> Moral Stories lessons for life | F187: 74 | G187: 42899 | H187: =G187+7 -> 42906 | I187: 42902
C188: 176 | D188: Raghav | E188: =VLOOKUP(F188,'Books Database'!B$2:C$500,2,0) -> Aesop's Fables - a treasured collection of 12 enchanting tales | F188: 84 | G188: 42899 | H188: =G188+7 -> 42906 | I188: 42902
C189: 177 | D189: Raghav | E189: =VLOOKUP(F189,'Books Database'!B$2:C$500,2,0) -> The Three Musketeers | F189: 155 | G189: 42899 | H189: =G189+7 -> 42906 | I189: 42902
C190: 178 | D190: Raghav | E190: =VLOOKUP(F190,'Books Database'!B$2:C$500,2,0) -> National Geographic - Dinosaurs Take wings | F190: 158 | G190: 42899 | H190: =G190+7 -> 42906 | I190: 42902
C191: 179 | D191: Eshaan | E191: =VLOOKUP(F191,'Books Database'!B$2:C$500,2,0) -> Hold your head High little Giraffe | F191: 80 | G191: 42899 | H191: =G191+7 -> 42906 | I191: 42941
C192: 180 | D192: Eshaan | E192: =VLOOKUP(F192,'Books Database'!B$2:C$500,2,0) -> The clever crow and other stories | F192: 72 | G192: 42899 | H192: =G192+7 -> 42906 | I192: 42941
C193: 181 | D193: Eshaan | E193: =VLOOKUP(F193,'Books Database'!B$2:C$500,2,0) -> Aladdin and the magic Lamp | F193: 78 | G193: 42899 | H193: =G193+7 -> 42906 | I193: 42941
C194: 182 | D194: Hemang Dubey | E194: =VLOOKUP(F194,'Books Database'!B$2:C$500,2,0) -> The Elves and the shoemaker | F194: 21 | G194: 42899 | H194: =G194+7 -> 42906 | I194: 42899
C195: 183 | D195: Hemang Dubey | E195: =VLOOKUP(F195,'Books Database'!B$2:C$500,2,0) -> Mamba and the crocodile bird | F195: 19 | G195: 42899 | H195: =G195+7 -> 42906 | I195: 42899
C196: 184 | D196: Hemang Dubey | E196: =VLOOKUP(F196,'Books Database'!B$2:C$500,2,0) -> Vikas - Rangbirangi Kahaniyaan (Hindi) | F196: 134 | G196: 42899 | H196: =G196+7 -> 42906 | I196: 42899
C197: 185 | D197: Aarav Jha | E197: =VLOOKUP(F197,'Books Database'!B$2:C$500,2,0) -> Amelia Bedelia & the Surprise Shower | F197: 123 | G197: 42899 | H197: =G197+7 -> 42906 | I197: 42902
... C199: 187 | D199: Aarav Jha | E199: =VLOOKUP(F199,'Books Database'!B$2:C$500,2,0) -> Harry goes to hong kong | F199: 54 | G199: 42899 | H199: =G199+7 -> 42906 | I199: 42902
C200: 188 | D200: Rucha | E200: =VLOOKUP(F200,'Books Database'!B$2:C$500,2,0) -> Bread and jam for Frances | F200: 49 | G200: 42902 | H200: 42920
C201: 189 | D201: Rucha | E201: =VLOOKUP(F201,'Books Database'!B$2:C$500,2,0) -> Noddy - A bike for Big ears | F201: 60 | G201: 42902 | H201: 42920
C202: 190 | D202: Rucha | E202: =VLOOKUP(F202,'Books Database'!B$2:C$500,2,0) -> A mad tea-party (Alice's adventures in wonderland) | F202: 92 | G202: 42902 | H202: 42920
C203: 191 | D203: Rucha | E203: =VLOOKUP(F203,'Books Database'!B$2:C$500,2,0) -> The fish that talked | F203: 57 | G203: 42902 | H203: 42920
C204: 192 | D204: Rucha | E204: =VLOOKUP(F204,'Books Database'!B$2:C$500,2,0) -> Chocolate chip muffins | F204: 125 | G204: 42902 | H204: 42920
C205: 193 | D205: Tejashree Vijay | E205: =VLOOKUP(F205,'Books Database'!B$2:C$500,2,0) -> The trouble with Grandad | F205: 15 | G205: 42902 | H205: 42920 | I205: 4/7/2017
C206: 194 | D206: Tejashree Vijay | E206: =VLOOKUP(F206,'Books Database'!B$2:C$500,2,0) -> Early readers three read aloud stories | F206: 114 | G206: 42902 | H206: 42920 | I206: 4/7/2017
C207: 195 | D207: Tejashree Vijay | E207: =VLOOKUP(F207,'Books Database'!B$2:C$500,2,0) -> Winnie the pooh - CD storybook | F207: 76 | G207: 42902 | H207: 42920 | I207: 4/7/2017
C208: 196 | D208: Keshav | E208: =VLOOKUP(F208,'Books Database'!B$2:C$500,2,0) -> Curious George visits the library | F208: 43 | G208: 42902 | H208: 42920 | I208: 4/7/2017
C209: 197 | D209: Keshav | E209: =VLOOKUP(F209,'Books Database'!B$2:C$500,2,0) -> The adventures of Thomas-Donald's duck and thomas, percy and the post train | F209: 53 | G209: 42902 | H209: 42920 | I209: 4/7/2017
C210: 198 | D210: Keshav | E210: =VLOOKUP(F210,'Books Database'!B$2:C$500,2,0) -> My Daddy and I | F210: 13 | G210: 42902 | H210: 42920 | I210: 4/7/2017
C211: 199 | D211: Keshav | E211: =VLOOKUP(F211,'Books Database'!B$2:C$500,2,0) -> Vikas stories for Children (Brown Book) | F211: 31 | G211: 42902 | H211: 42920 | I211: 4/7/2017
C212: 200 | D212: Tavish | E212: =VLOOKUP(F212,'Books Database'!B$2:C$500,2,0) -> Curious George and the birthday surprise | F212: 40 | G212: 42902 | H212: 42920 | I212: 4/7/2017
C213: 201 | D213: Tavish | E213: =VLOOKUP(F213,'Books Database'!B$2:C$500,2,0) -> Curious George visits the library | F213: 37 | G213: 42902 | H213: 42920 | I213: 4/7/2017
C214: 202 | D214: Tavish | E214: =VLOOKUP(F214,'Books Database'!B$2:C$500,2,0) -> Curious George goes to a chocolate factory | F214: 38 | G214: 42902 | H214: 42920 | I214: 4/7/2017
C215: 203 | D215: Tavish | E215: =VLOOKUP(F215,'Books Database'!B$2:C$500,2,0) -> Danny & the Dinosaur | F215: 128 | G215: 42902 | H215: 42920 | I215: 4/7/2017
C216: 204 | D216: Alakh | E216: =VLOOKUP(F216,'Books Database'!B$2:C$500,2,0) -> Lydia the reading fairy | F216: 64 | G216: 42902 | H216: 42920 | I216: 42923
C217: 205 | D217: Alakh | E217: =VLOOKUP(F217,'Books Database'!B$2:C$500,2,0) -> Bruno tells the truth | F217: 115 | G217: 42902 | H217: 42920 | I217: 42923
C218: 206 | D218: Alakh | E218: =VLOOKUP(F218,'Books Database'!B$2:C$500,2,0) -> Milly, Molly and Aunt Maude | F218: 11 | G218: 42902 | H218: 42920 | I218: 42923
C219: 207 | D219: Sudhi | E219: =VLOOKUP(F219,'Books Database'!B$2:C$500,2,0) -> My Bedtime Stories | F219: 67 | G219: 42902 | H219: 42920 | I219: 42923
C220: 208 | D220: Sudhi | E220: =VLOOKUP(F220,'Books Database'!B$2:C$500,2,0) -> Sly the sleuth and the food mysteries | F220: 50 | G220: 42902 | H220: 42920 | I220: 42923
C221: 209 | D221: Sudhi | E221: =VLOOKUP(F221,'Books Database'!B$2:C$500,2,0) -> The Magic shoes | F221: 132 | G221: 42902 | H221: 42920 | I221: 42923
C222: 210 | D222: Sudhi | E222: =VLOOKUP(F222,'Books Database'!B$2:C$500,2,0) -> Barbie as the island princess | F222: 52 | G222: 42902 | H222: 42920 | I222: 42923
C223: 211 | D223: Sudhi | E223: =VLOOKUP(F223,'Books Database'!B$2:C$500,2,0) -> Disney Movie collection - Sleeping Beauty | F223: 122 | G223: 42902 | H223: 42920 | I223: 42923
C224: 212 | D224: Ayami | E224: =VLOOKUP(F224,'Books Database'!B$2:C$500,2,0) -> Thomas & the fireworks display | F224: 113 | G224: 42902 | H224: 42920 | I224: 42920
C225: 213 | D225: Ayami | E225: =VLOOKUP(F225,'Books Database'!B$2:C$500,2,0) -> Making Letters Board Book | F225: 153 | G225: 42902 | H225: 42920 | I225: 42920
C226: 214 | D226: Ayami | E226: =VLOOKUP(F226,'Books Database'!B$2:C$500,2,0) -> Bruno Gets lost | F226: 112 | G226: 42902 | H226: 42920 | I226: 42920
C227: 215 | D227: Ayami | E227: =VLOOKUP(F227,'Books Database'!B$2:C$500,2,0) -> The frog prince | F227: 23 | G227: 42902 | H227: 42920 | I227: 42920
... C244: 231 | D244: Nishna | E244: =VLOOKUP(F244,'Books Database'!B$2:C$500,2,0) -> Vikas colourful rhymes | F244: 73 | G244: 42902 | H244: 42920 | I244: 42920
C245: 232 | D245: Tejashree Vijay | E245: =VLOOKUP(F245,'Books Database'!B$2:C$500,2,0) -> Moral Stories lessons for life | F245: 74 | G245: 42920 | H245: =G245+7 -> 42927 | I245: 42928
C246: 233 | D246: Tejashree Vijay | E246: =VLOOKUP(F246,'Books Database'!B$2:C$500,2,0) -> Tales from Upnishads | F246: 110 | G246: 42920 | H246: =G246+7 -> 42927 | I246: 42928
C247: 234 | D247: Tejashree Vijay | E247: =VLOOKUP(F247,'Books Database'!B$2:C$500,2,0) -> Chhota Bheem in Circus in Dholakpur | F247: 209 | G247: 42920 | H247: =G247+7 -> 42927 | I247: 42928
C248: 235 | D248: Keshav | E248: =VLOOKUP(F248,'Books Database'!B$2:C$500,2,0) -> 7-in-1 Panchtantra stories | F248: 292 | G248: 42920 | H248: =G248+7 -> 42927 | I248: 42928
C249: 236 | D249: Keshav | E249: =VLOOKUP(F249,'Books Database'!B$2:C$500,2,0) -> The frog prince | F249: 23 | G249: 42920 | H249: =G249+7 -> 42927 | I249: 42928
C250: 237 | D250: Keshav | E250: =VLOOKUP(F250,'Books Database'!B$2:C$500,2,0) -> Bruno the artist | F250: 116 | G250: 42920 | H250: =G250+7 -> 42927 | I250: 42928
C251: 238 | D251: Keshav | E251: =VLOOKUP(F251,'Books Database'!B$2:C$500,2,0) -> Chhota Bheem in Shivani ka Dhaba | F251: 207 | G251: 42920 | H251: =G251+7 -> 42927 | I251: 42928
C252: 239 | D252: Tavish | E252: =VLOOKUP(F252,'Books Database'!B$2:C$500,2,0) -> Geronimo Stilton - The Mouse Hoax | F252: 232 | G252: 42920 | H252: =G252+7 -> 42927 | I252: 42928
C253: 240 | D253: Tavish | E253: =VLOOKUP(F253,'Books Database'!B$2:C$500,2,0) -> Geronimo Stilton - The Haunted Castle | F253: 233 | G253: 42920 | H253: =G253+7 -> 42927 | I253: 42928
C254: 241 | D254: Tavish | E254: =VLOOKUP(F254,'Books Database'!B$2:C$500,2,0) -> 1000 Facts you just wont Believe | F254: 285 | G254: 42920 | H254: =G254+7 -> 42927 | I254: 42928
C255: 242 | D255: Tavish | E255: =VLOOKUP(F255,'Books Database'!B$2:C$500,2,0) -> Tenali Raman Stories | F255: 294 | G255: 42920 | H255: =G255+7 -> 42927 | I255: 42928
C256: 243 | D256: Ridhima | E256: =VLOOKUP(F256,'Books Database'!B$2:C$500,2,0) -> Enid Blyton's Famous 5 - Five on Finniston Farm | F256: 241 | G256: 42923 | H256: =G256+7 -> 42930 | I256: 42934
... C282: 269 | D282: Kapeesh | E282: =VLOOKUP(F282,'Books Database'!B$2:C$500,2,0) -> Tinkle - Butterfingers goes bonkers - 2 | F282: 176 | G282: 42923 | H282: =G282+7 -> 42930 | I282: 42929
C283: 270 | D283: Mihika | E283: =VLOOKUP(F283,'Books Database'!B$2:C$500,2,0) -> Disney Movie collection - Sleeping Beauty | F283: 122 | G283: 42928 | H283: 42934 | I283: 42929
C284: 271 | D284: Mihika | E284: =VLOOKUP(F284,'Books Database'!B$2:C$500,2,0) -> Fairyland Treasury | F284: 120 | G284: 42928 | H284: 42934 | I284: 42929
C285: 272 | D285: Arsh Vir | E285: =VLOOKUP(F285,'Books Database'!B$2:C$500,2,0) -> Champak October (First) 2016 | F285: 206 | G285: 42928 | H285: 42934 | I285: 42937
C286: 273 | D286: Arsh Vir | E286: =VLOOKUP(F286,'Books Database'!B$2:C$500,2,0) -> Champak December (First) 2013 | F286: 201 | G286: 42928 | H286: 42934 | I286: 42937
C287: 274 | D287: Arsh Vir | E287: =VLOOKUP(F287,'Books Database'!B$2:C$500,2,0) -> Champak October (Second) 2012 | F287: 202 | G287: 42928 | H287: 42934 | I287: 42937
C288: 275 | D288: Arsh Vir | E288: =VLOOKUP(F288,'Books Database'!B$2:C$500,2,0) -> Champak January (First) 2012 | F288: 203 | G288: 42928 | H288: 42934 | I288: 42937
C289: 276 | D289: Tejashree Vijay | E289: =VLOOKUP(F289,'Books Database'!B$2:C$500,2,0) -> Milly, Molly and the wind | F289: 3 | G289: 42928 | H289: 42934 | I289: 42934
C290: 277 | D290: Tejashree Vijay | E290: =VLOOKUP(F290,'Books Database'!B$2:C$500,2,0) -> I Wonder Why - Stars Shine | F290: 311 | G290: 42928 | H290: 42934 | I290: 42934
C291: 278 | D291: Tejashree Vijay | E291: =VLOOKUP(F291,'Books Database'!B$2:C$500,2,0) -> Little Red Riding Hood | F291: 36 | G291: 42928 | H291: 42934 | I291: 42934
C292: 279 | D292: Mishka | E292: =VLOOKUP(F292,'Books Database'!B$2:C$500,2,0) -> My Bedtime Stories | F292: 67 | G292: 42928 | H292: 42934 | I292: 42937
C293: 280 | D293: Mishka | E293: =VLOOKUP(F293,'Books Database'!B$2:C$500,2,0) -> Vikas Treasure of Stories - Rose Book | F293: 138 | G293: 42928 | H293: 42934 | I293: 42937
C294: 281 | D294: Mishka | E294: =VLOOKUP(F294,'Books Database'!B$2:C$500,2,0) -> Stories of Tenali Raman (goddess Kali, court poet) | F294: 28 | G294: 42928 | H294: 42934 | I294: 42937
... C299: 286 | D299: Anaisha | E299: =VLOOKUP(F299,'Books Database'!B$2:C$500,2,0) -> Tinkle - The adventures of Suppandi - 1 | F299: 178 | G299: 42928 | H299: 42934 | I299: 43038
C300: 287 | D300: Anaisha | E300: =VLOOKUP(F300,'Books Database'!B$2:C$500,2,0) -> Champak April (First) 2016 | F300: 204 | G300: 42928 | H300: 42934 | I300: LOST
C301: 288 | D301: Keshav | E301: =VLOOKUP(F301,'Books Database'!B$2:C$500,2,0) -> Noddy and the singing bush | F301: 63 | G301: 42928 | H301: 42934 | I301: 42937
C302: 289 | D302: Keshav | E302: =VLOOKUP(F302,'Books Database'!B$2:C$500,2,0) -> Enid Blyton's the New adventures of the Wishing Chair - The Island of Surprises | F302: 240 | G302: 42928 | H302: 42934 | I302: 42937
C303: 290 | D303: Keshav | E303: =VLOOKUP(F303,'Books Database'!B$2:C$500,2,0) -> Sri Ram's Moral Story Book Step-III | F303: 293 | G303: 42928 | H303: 42934 | I303: 42937
C304: 291 | D304: Sudhi | E304: =VLOOKUP(F304,'Books Database'!B$2:C$500,2,0) -> Tinkle - Tantri the Mantri -1 | F304: 180 | G304: 42928 | H304: 42934 | I304: 42941
C305: 292 | D305: Sudhi | E305: =VLOOKUP(F305,'Books Database'!B$2:C$500,2,0) -> Tinkle - Tantri the Mantri - 2 | F305: 179 | G305: 42928 | H305: 42934 | I305: 42941
C306: 293 | D306: Sudhi | E306: =VLOOKUP(F306,'Books Database'!B$2:C$500,2,0) -> Tinkle - Tantri the Mantri - 3 | F306: 177 | G306: 42928 | H306: 42934 | I306: 42941
C307: 294 | D307: Alakh | E307: =VLOOKUP(F307,'Books Database'!B$2:C$500,2,0) -> Eleanor the snow white Fairy | F307: 46 | G307: 42928 | H307: 42934 | I307: 42941
C308: 295 | D308: Alakh | E308: =VLOOKUP(F308,'Books Database'!B$2:C$500,2,0) -> Big Barry Baker on the stage | F308: 2 | G308: 42928 | H308: 42934 | I308: 42941
C309: 296 | D309: Alakh | E309: =VLOOKUP(F309,'Books Database'!B$2:C$500,2,0) -> Milly, Molly and the Mountain | F309: 6 | G309: 42928 | H309: 42934 | I309: 42941
...

Sheet Sheet3
B5: Book Number | C5: Book Name | D5: Borrower | E5: Issue Date | F5: Due Date | G5: Date Returned
A6: =COUNTIF('Borrowing database'!F:F,Sheet3!B6) -> 4 | B6: 1 | C6: Cinderella Mini Storybook | D6: Mihika | E6: =INDEX('Borrowing database'!G:G,MATCH(Sheet3!B6&Sheet3!D6,'Borrowing database'!B:B,0)) -> 42857 | F6: =E6+7 -> 42864 | G6: =INDEX('Borrowing database'!I:I,MATCH(Sheet3!B6&Sheet3!D6,'Borrowing database'!B:B,0)) -> 42867
A7: =COUNTIF('Borrowing database'!F:F,Sheet3!B7) -> 2 | B7: 2 | C7: Big Barry Baker on the stage
A8: =COUNTIF('Borrowing database'!F:F,Sheet3!B8) -> 3 | B8: 3 | C8: Milly, Molly and the wind | D8: Ayami | E8: =INDEX('Borrowing database'!G:G,MATCH(Sheet3!B8&Sheet3!D8,'Borrowing database'!B:B,0)) -> 42857 | F8: =E8+7 -> 42864 | G8: =INDEX('Borrowing database'!I:I,MATCH(Sheet3!B8&Sheet3!D8,'Borrowing database'!B:B,0)) -> 42864
A9: =COUNTIF('Borrowing database'!F:F,Sheet3!B9) -> 1 | B9: 4 | C9: Milly and Molly Go Camping
A10: =COUNTIF('Borrowing database'!F:F,Sheet3!B10) -> 1 | B10: 5 | C10: Mily, Molly and Heidi untidy
A11: =COUNTIF('Borrowing database'!F:F,Sheet3!B11) -> 1 | B11: 6 | C11: Milly, Molly and the Mountain
A12: =COUNTIF('Borrowing database'!F:F,Sheet3!B12) -> 3 | B12: 7 | C12: Milly, Molly and Mipper | D12: Ayami | E12: =INDEX('Borrowing database'!G:G,MATCH(Sheet3!B12&Sheet3!D12,'Borrowing database'!B:B,0)) -> 42857 | F12: =E12+7 -> 42864 | G12: =INDEX('Borrowing database'!I:I,MATCH(Sheet3!B12&Sheet3!D12,'Borrowing database'!B:B,0)) -> 42864
A13: =COUNTIF('Borrowing database'!F:F,Sheet3!B13) -> 1 | B13: 8 | C13: Milly, Molly and the tree Hut
A14: =COUNTIF('Borrowing database'!F:F,Sheet3!B14) -> 3 | B14: 9 | C14: Milly, Molly and the Magic Muffins | D14: Ayami | E14: =INDEX('Borrowing database'!G:G,MATCH(Sheet3!B14&Sheet3!D14,'Borrowing database'!B:B,0)) -> 42857 | F14: =E14+7 -> 42864 | G14: =INDEX('Borrowing database'!I:I,MATCH(Sheet3!B14&Sheet3!D14,'Borrowing database'!B:B,0)) -> 42864
A15: =COUNTIF('Borrowing database'!F:F,Sheet3!B15) -> 1 | B15: 10 | C15: Milly, Molly and BushBob
A16: =COUNTIF('Borrowing database'!F:F,Sheet3!B16) -> 1 | B16: 11 | C16: Milly, Molly and Aunt Maude
A17: =COUNTIF('Borrowing database'!F:F,Sheet3!B17) -> 0 | B17: 12 | C17: The return of Ram
A18: =COUNTIF('Borrowing database'!F:F,Sheet3!B18) -> 3 | B18: 13 | C18: My Daddy and I | D18: Mishka | E18: =INDEX('Borrowing database'!G:G,MATCH(Sheet3!B18&Sheet3!D18,'Borrowing database'!B:B,0)) -> 42864 | F18: =E18+7 -> 42871 | G18: =INDEX('Borrowing database'!I:I,MATCH(Sheet3!B18&Sheet3!D18,'Borrowing database'!B:B,0)) -> 42871
A19: =COUNTIF('Borrowing database'!F:F,Sheet3!B19) -> 1 | B19: 14 | C19: The trouble with Mum
A20: =COUNTIF('Borrowing database'!F:F,Sheet3!B20) -> 3 | B20: 15 | C20: The trouble with Grandad | D20: Svojas | E20: =INDEX('Borrowing database'!G:G,MATCH(Sheet3!B20&Sheet3!D20,'Borrowing database'!B:B,0)) -> 42867 | F20: =E20+7 -> 42874 | G20: =INDEX('Borrowing database'!I:I,MATCH(Sheet3!B20&Sheet3!D20,'Borrowing database'!B:B,0)) -> 42892
A21: =COUNTIF('Borrowing database'!F:F,Sheet3!B21) -> 1 | B21: 16 | C21: The trouble with Gran | D21: Mishka | E21: =INDEX('Borrowing database'!G:G,MATCH(Sheet3!B21&Sheet3!D21,'Borrowing database'!B:B,0)) -> 42864 | F21: =E21+7 -> 42871 | G21: =INDEX('Borrowing database'!I:I,MATCH(Sheet3!B21&Sheet3!D21,'Borrowing database'!B:B,0)) -> 42871
A22: =COUNTIF('Borrowing database'!F:F,Sheet3!B22) -> 1 | B22: 17 | C22: Ish
A23: =COUNTIF('Borrowing database'!F:F,Sheet3!B23) -> 1 | B23: 18 | C23: Duma and the Lion | D23: Ranbir | E23: =INDEX('Borrowing database'!G:G,MATCH(Sheet3!B23&Sheet3!D23,'Borrowing database'!B:B,0)) -> 42864 | F23: =E23+7 -> 42871 | G23: =INDEX('Borrowing database'!I:I,MATCH(Sheet3!B23&Sheet3!D23,'Borrowing database'!B:B,0)) -> 42143
A24: =COUNTIF('Borrowing database'!F:F,Sheet3!B24) -> 3 | B24: 19 | C24: Mamba and the crocodile bird
A25: =COUNTIF('Borrowing database'!F:F,Sheet3!B25) -> 1 | B25: 20 | C25: The new boy
A26: =COUNTIF('Borrowing database'!F:F,Sheet3!B26) -> 2 | B26: 21 | C26: The Elves and the shoemaker
A27: =COUNTIF('Borrowing database'!F:F,Sheet3!B27) -> 2 | B27: 22 | C27: Twiga and the moon | D27: Svojas | E27: =INDEX('Borrowing database'!G:G,MATCH(Sheet3!B27&Sheet3!D27,'Borrowing database'!B:B,0)) -> 42867 | F27: =E27+7 -> 42874 | G27: =INDEX('Borrowing database'!I:I,MATCH(Sheet3!B27&Sheet3!D27,'Borrowing database'!B:B,0)) -> 42892
A28: =COUNTIF('Borrowing database'!F:F,Sheet3!B28) -> 3 | B28: 23 | C28: The frog prince
A29: =COUNTIF('Borrowing database'!F:F,Sheet3!B29) -> 2 | B29: 24 | C29: The Magic Trident | D29: Kapeesh | E29: =INDEX('Borrowing database'!G:G,MATCH(Sheet3!B29&Sheet3!D29,'Borrowing database'!B:B,0)) -> 42864 | F29: =E29+7 -> 42871 | G29: =INDEX('Borrowing database'!I:I,MATCH(Sheet3!B29&Sheet3!D29,'Borrowing database'!B:B,0)) -> 42871
A30: =COUNTIF('Borrowing database'!F:F,Sheet3!B30) -> 1 | B30: 25 | C30: Milly, Molly and Sock Heaven
A31: =COUNTIF('Borrowing database'!F:F,Sheet3!B31) -> 2 | B31: 26 | C31: Ice Age Dawn of the Dinosaurs All in the family | D31: Rucha | E31: =INDEX('Borrowing database'!G:G,MATCH(Sheet3!B31&Sheet3!D31,'Borrowing database'!B:B,0)) -> 42860 | F31: =E31+7 -> 42867 | G31: =INDEX('Borrowing database'!I:I,MATCH(Sheet3!B31&Sheet3!D31,'Borrowing database'!B:B,0)) -> 42867
A32: =COUNTIF('Borrowing database'!F:F,Sheet3!B32) -> 0 | B32: 27 | C32: The Three Apples Sindbad the sailor
A33: =COUNTIF('Borrowing database'!F:F,Sheet3!B33) -> 4 | B33: 28 | C33: Stories of Tenali Raman (goddess Kali, court poet) | D33: Mishka | E33: =INDEX('Borrowing database'!G:G,MATCH(Sheet3!B33&Sheet3!D33,'Borrowing database'!B:B,0)) -> 42860 | F33: =E33+7 -> 42867 | G33: =INDEX('Borrowing database'!I:I,MATCH(Sheet3!B33&Sheet3!D33,'Borrowing database'!B:B,0)) -> 42864
A34: =COUNTIF('Borrowing database'!F:F,Sheet3!B34) -> 2 | B34: 29 | C34: Isem in Grumpy town
A35: =COUNTIF('Borrowing database'!F:F,Sheet3!B35) -> 0 | B35: 30 | C35: Vikas stories for Children (violet Book)
A36: =COUNTIF('Borrowing database'!F:F,Sheet3!B36) -> 3 | B36: 31 | C36: Vikas stories for Children (Brown Book) | D36: Kapeesh | E36: =INDEX('Borrowing database'!G:G,MATCH(Sheet3!B36&Sheet3!D36,'Borrowing database'!B:B,0)) -> 42864 | F36: =E36+7 -> 42871 | G36: =INDEX('Borrowing database'!I:I,MATCH(Sheet3!B36&Sheet3!D36,'Borrowing database'!B:B,0)) -> 42871
A37: =COUNTIF('Borrowing database'!F:F,Sheet3!B37) -> 1 | B37: 32 | C37: Little Daisy's red rose | D37: Alakh | E37: =INDEX('Borrowing database'!G:G,MATCH(Sheet3!B37&Sheet3!D37,'Borrowing database'!B:B,0)) -> 42857 | F37: =E37+7 -> 42864 | G37: =INDEX('Borrowing database'!I:I,MATCH(Sheet3!B37&Sheet3!D37,'Borrowing database'!B:B,0)) -> 42864
A38: =COUNTIF('Borrowing database'!F:F,Sheet3!B38) -> 2 | B38: 33 | C38: March First | D38: Dhruv | E38: =INDEX('Borrowing database'!G:G,MATCH(Sheet3!B38&Sheet3!D38,'Borrowing database'!B:B,0)) -> 42860 | F38: =E38+7 -> 42867 | G38: =INDEX('Borrowing database'!I:I,MATCH(Sheet3!B38&Sheet3!D38,'Borrowing database'!B:B,0)) -> 42864
A39: =COUNTIF('Borrowing database'!F:F,Sheet3!B39) -> 1 | B39: 34 | C39: Curios George flies a kite
A40: =COUNTIF('Borrowing database'!F:F,Sheet3!B40) -> 3 | B40: 35 | C40: Mr Green Man and Mr Red Man | D40: Alakh | E40: =INDEX('Borrowing database'!G:G,MATCH(Sheet3!B40&Sheet3!D40,'Borrowing database'!B:B,0)) -> 42857 | G40: =INDEX('Borrowing database'!I:I,MATCH(Sheet3!B40&Sheet3!D40,'Borrowing database'!B:B,0)) -> 42864
A41: =COUNTIF('Borrowing database'!F:F,Sheet3!B41) -> 3 | B41: 36 | C41: Little Red Riding Hood | D41: Mihika | E41: =INDEX('Borrowing database'!G:G,MATCH(Sheet3!B41&Sheet3!D41,'Borrowing database'!B:B,0)) -> 42857 | G41: =INDEX('Borrowing database'!I:I,MATCH(Sheet3!B41&Sheet3!D41,'Borrowing database'!B:B,0)) -> 42867
A42: =COUNTIF('Borrowing database'!F:F,Sheet3!B42) -> 3 | B42: 37 | C42: Curios George visits the library | D42: Rucha | E42: =INDEX('Borrowing database'!G:G,MATCH(Sheet3!B42&Sheet3!D42,'Borrowing database'!B:B,0)) -> 42867 | G42: =INDEX('Borrowing database'!I:I,MATCH(Sheet3!B42&Sheet3!D42,'Borrowing database'!B:B,0)) -> 42871
A43: =COUNTIF('Borrowing database'!F:F,Sheet3!B43) -> 3 | B43: 38 | C43: Curios George goes to a chocolate factory | D43: Tavish | E43: =INDEX('Borrowing database'!G:G,MATCH(Sheet3!B43&Sheet3!D43,'Borrowing database'!B:B,0)) -> 42857 | G43: =INDEX('Borrowing database'!I:I,MATCH(Sheet3!B43&Sheet3!D43,'Borrowing database'!B:B,0)) -> 42864
A44: =COUNTIF('Borrowing database'!F:F,Sheet3!B44) -> 2 | B44: 39 | C44: Curios George and the dinosaur | D44: Aarav Jha | E44: =INDEX('Borrowing database'!G:G,MATCH(Sheet3!B44&Sheet3!D44,'Borrowing database'!B:B,0)) -> 42860
A45: =COUNTIF('Borrowing database'!F:F,Sheet3!B45) -> 2 | B45: 40 | C45: Curios George and the birthday surprise | D45: Tavish | E45: =INDEX('Borrowing database'!G:G,MATCH(Sheet3!B45&Sheet3!D45,'Borrowing database'!B:B,0)) -> 42857
A46: =COUNTIF('Borrowing database'!F:F,Sheet3!B46) -> 2 | B46: 41 | C46: Curios George and the fire-fighters | D46: Aarav Jha | E46: =INDEX('Borrowing database'!G:G,MATCH(Sheet3!B46&Sheet3!D46,'Borrowing database'!B:B,0)) -> 42860
A47: =COUNTIF('Borrowing database'!F:F,Sheet3!B47) -> 3 | B47: 42 | C47: Curios George visits a toy shop
A48: =COUNTIF('Borrowing database'!F:F,Sheet3!B48) -> 1 | B48: 43 | C48: Curios George visits the library
A49: =COUNTIF('Borrowing database'!F:F,Sheet3!B49) -> 4 | B49: 44 | C49: Enid Blyton's Goodnight stories | D49: Raghav | E49: =INDEX('Borrowing database'!G:G,MATCH(Sheet3!B49&Sheet3!D49,'Borrowing database'!B:B,0)) -> 42864
A50: =COUNTIF('Borrowing database'!F:F,Sheet3!B50) -> 4 | B50: 45 | C50: Julia the sleeping beauty fairy | D50: Ridhima | E50: =INDEX('Borrowing database'!G:G,MATCH(Sheet3!B50&Sheet3!D50,'Borrowing database'!B:B,0)) -> 42857
A51: =COUNTIF('Borrowing database'!F:F,Sheet3!B51) -> 4 | B51: 46 | C51: Eleanor the snow white Fairy | D51: Ridhima | E51: =INDEX('Borrowing database'!G:G,MATCH(Sheet3!B51&Sheet3!D51,'Borrowing database'!B:B,0)) -> 42857
A52: =COUNTIF('Borrowing database'!F:F,Sheet3!B52) -> 2 | B52: 47 | C52: Aesop's fables (bear and the bees, crow and the mouse) | D52: Arvind | E52: =INDEX('Borrowing database'!G:G,MATCH(Sheet3!B52&Sheet3!D52,'Borrowing database'!B:B,0)) -> 42860
A53: =COUNTIF('Borrowing database'!F:F,Sheet3!B53) -> 2 | B53: 48 | C53: Four forest friends and other panchtantra tales | D53: Mishka | E53: =INDEX('Borrowing database'!G:G,MATCH(Sheet3!B53&Sheet3!D53,'Borrowing database'!B:B,0)) -> 42860
A54: =COUNTIF('Borrowing database'!F:F,Sheet3!B54) -> 3 | B54: 49 | C54: Bread and jam for Frances
A55: =COUNTIF('Borrowing database'!F:F,Sheet3!B55) -> 3 | B55: 50 | C55: Sly the sleuth and the food mysteries | D55: Raghav | E55: =INDEX('Borrowing database'!G:G,MATCH(Sheet3!B55&Sheet3!D55,'Borrowing database'!B:B,0)) -> 42867
A56: =COUNTIF('Borrowing database'!F:F,Sheet3!B56) -> 4 | B56: 51 | C56: The magic school bus meets the rots squad | D56: Arvind | E56: =INDEX('Borrowing database'!G:G,MATCH(Sheet3!B56&Sheet3!D56,'Borrowing database'!B:B,0)) -> 42860
A57: =COUNTIF('Borrowing database'!F:F,Sheet3!B57) -> 5 | B57: 52 | C57: Barbie as the island princess | D57: Rucha | E57: =INDEX('Borrowing database'!G:G,MATCH(Sheet3!B57&Sheet3!D57,'Borrowing database'!B:B,0)) -> 42867
A58: =COUNTIF('Borrowing database'!F:F,Sheet3!B58) -> 3 | B58: 53 | C58: The adventures of Thomas-Donald's duck and thomas, percy and the post train | D58: Ranbir | E58: =INDEX('Borrowing database'!G:G,MATCH(Sheet3!B58&Sheet3!D58,'Borrowing database'!B:B,0)) -> 42857
A59: =COUNTIF('Borrowing database'!F:F,Sheet3!B59) -> 4 | B59: 54 | C59: Harry goes to hong kong | D59: Tavish | E59: =INDEX('Borrowing database'!G:G,MATCH(Sheet3!B59&Sheet3!D59,'Borrowing database'!B:B,0)) -> 42864
A60: =COUNTIF('Borrowing database'!F:F,Sheet3!B60) -> 3 | B60: 55 | C60: Ladybug girl | D60: Rucha | E60: =INDEX('Borrowing database'!G:G,MATCH(Sheet3!B60&Sheet3!D60,'Borrowing database'!B:B,0)) -> 42867
A61: =COUNTIF('Borrowing database'!F:F,Sheet3!B61) -> 2 | B61: 56 | C61: The ugly old Scarecrow | D61: Kapeesh | E61: =INDEX('Borrowing database'!G:G,MATCH(Sheet3!B61&Sheet3!D61,'Borrowing database'!B:B,0)) -> 42864
A62: =COUNTIF('Borrowing database'!F:F,Sheet3!B62) -> 3 | B62: 57 | C62: The fish that talked | D62: Ranbir | E62: =INDEX('Borrowing database'!G:G,MATCH(Sheet3!B62&Sheet3!D62,'Borrowing database'!B:B,0)) -> 42864
A63: =COUNTIF('Borrowing database'!F:F,Sheet3!B63) -> 4 | B63: 58 | C63: The mouse's wedding | D63: Sudhi | E63: =INDEX('Borrowing database'!G:G,MATCH(Sheet3!B63&Sheet3!D63,'Borrowing database'!B:B,0)) -> 42864
A64: =COUNTIF('Borrowing database'!F:F,Sheet3!B64) -> 5 | B64: 59 | C64: Mr. Midnight | D64: Eshaan | E64: =INDEX('Borrowing database'!G:G,MATCH(Sheet3!B64&Sheet3!D64,'Borrowing database'!B:B,0)) -> 42860
A65: =COUNTIF('Borrowing database'!F:F,Sheet3!B65) -> 3 | B65: 60 | C65: Noddy - A bike for Big ears | D65: Tavish | E65: =INDEX('Borrowing database'!G:G,MATCH(Sheet3!B65&Sheet3!D65,'Borrowing database'!B:B,0)) -> 42864
A66: =COUNTIF('Borrowing database'!F:F,Sheet3!B66) -> 5 | B66: 61 | C66: Frozen | D66: Mihika | E66: =INDEX('Borrowing database'!G:G,MATCH(Sheet3!B66&Sheet3!D66,'Borrowing database'!B:B,0)) -> 42857
... A69: =COUNTIF('Borrowing database'!F:F,Sheet3!B69) -> 3 | B69: 64 | C69: Lydia the reading fairy | D69: Ridhima | E69: =INDEX('Borrowing database'!G:G,MATCH(Sheet3!B69&Sheet3!D69,'Borrowing database'!B:B,0)) -> 42857
A70: =COUNTIF('Borrowing database'!F:F,Sheet3!B70) -> 2 | B70: 65 | C70: Curios George takes a Job
A71: =COUNTIF('Borrowing database'!F:F,Sheet3!B71) -> 3 | B71: 66 | C71: Anansi and Mr Snake and other stories | D71: Eshaan | E71: =INDEX('Borrowing database'!G:G,MATCH(Sheet3!B71&Sheet3!D71,'Borrowing database'!B:B,0)) -> 42860
A72: =COUNTIF('Borrowing database'!F:F,Sheet3!B72) -> 4 | B72: 67 | C72: My Bedtime Stories | D72: Raghav | E72: =INDEX('Borrowing database'!G:G,MATCH(Sheet3!B72&Sheet3!D72,'Borrowing database'!B:B,0)) -> 42864
A73: =COUNTIF('Borrowing database'!F:F,Sheet3!B73) -> 1 | B73: 68 | C73: The Emperor's New Clothes
A74: =COUNTIF('Borrowing database'!F:F,Sheet3!B74) -> 3 | B74: 69 | C74: Fairy Tales (fairy tales for Children) | D74: Mishka | E74: =INDEX('Borrowing database'!G:G,MATCH(Sheet3!B74&Sheet3!D74,'Borrowing database'!B:B,0)) -> 42864
A75: =COUNTIF('Borrowing database'!F:F,Sheet3!B75) -> 3 | B75: 70 | C75: Treasury of Classic Stories | D75: Raghav | E75: =INDEX('Borrowing database'!G:G,MATCH(Sheet3!B75&Sheet3!D75,'Borrowing database'!B:B,0)) -> 42857
A76: =COUNTIF('Borrowing database'!F:F,Sheet3!B76) -> 2 | B76: 71 | C76: Best of Environmental stories | D76: Raghav | E76: =INDEX('Borrowing database'!G:G,MATCH(Sheet3!B76&Sheet3!D76,'Borrowing database'!B:B,0)) -> 42864
A77: =COUNTIF('Borrowing database'!F:F,Sheet3!B77) -> 3 | B77: 72 | C77: The clever crow and other stories | D77: Ranbir | E77: =INDEX('Borrowing database'!G:G,MATCH(Sheet3!B77&Sheet3!D77,'Borrowing database'!B:B,0)) -> 42864
A78: =COUNTIF('Borrowing database'!F:F,Sheet3!B78) -> 5 | B78: 73 | C78: Vikas colourful rhymes | D78: Sudhi | E78: =INDEX('Borrowing database'!G:G,MATCH(Sheet3!B78&Sheet3!D78,'Borrowing database'!B:B,0)) -> 42857
A79: =COUNTIF('Borrowing database'!F:F,Sheet3!B79) -> 4 | B79: 74 | C79: Moral Stories lessons for life | D79: Raghav | E79: =INDEX('Borrowing database'!G:G,MATCH(Sheet3!B79&Sheet3!D79,'Borrowing database'!B:B,0)) -> 42867
A80: =COUNTIF('Borrowing database'!F:F,Sheet3!B80) -> 0 | B80: 75 | C80: The most beautiful lantern
A81: =COUNTIF('Borrowing database'!F:F,Sheet3!B81) -> 2 | B81: 76 | C81: Winnie the pooh - CD storybook
A82: =COUNTIF('Borrowing database'!F:F,Sheet3!B82) -> 0 | B82: 77 | C82: The wise Brahmin & other stories
A83: =COUNTIF('Borrowing database'!F:F,Sheet3!B83) -> 3 | B83: 78 | C83: Aladdin and the magic Lamp | D83: Rucha | E83: =INDEX('Borrowing database'!G:G,MATCH(Sheet3!B83&Sheet3!D83,'Borrowing database'!B:B,0)) -> 42860
A84: =COUNTIF('Borrowing database'!F:F,Sheet3!B84) -> 3 | B84: 79 | C84: Disney Movie collection - Snow White | D84: Rucha | E84: =INDEX('Borrowing database'!G:G,MATCH(Sheet3!B84&Sheet3!D84,'Borrowing database'!B:B,0)) -> 42860
A85: =COUNTIF('Borrowing database'!F:F,Sheet3!B85) -> 3 | B85: 80 | C85: Hold your head High little Giraffe | D85: Ranbir | E85: =INDEX('Borrowing database'!G:G,MATCH(Sheet3!B85&Sheet3!D85,'Borrowing database'!B:B,0)) -> 42857
A86: =COUNTIF('Borrowing database'!F:F,Sheet3!B86) -> 1 | B86: 81 | C86: Vikas Stories for Children (Pink book) | D86: Sudhi | E86: =INDEX('Borrowing database'!G:G,MATCH(Sheet3!B86&Sheet3!D86,'Borrowing database'!B:B,0)) -> 42864
A87: =COUNTIF('Borrowing database'!F:F,Sheet3!B87) -> 0 | B87: 82 | C87: It's story time - 1
A88: =COUNTIF('Borrowing database'!F:F,Sheet3!B88) -> 1 | B88: 83 | C88: Gulliver's Travels
A89: =COUNTIF('Borrowing database'!F:F,Sheet3!B89) -> 4 | B89: 84 | C89: Aesop's Fables - a treasured collection of 12 enchanting tales | D89: Eshaan | E89: =INDEX('Borrowing database'!G:G,MATCH(Sheet3!B89&Sheet3!D89,'Borrowing database'!B:B,0)) -> 42860
A90: =COUNTIF('Borrowing database'!F:F,Sheet3!B90) -> 3 | B90: 85 | C90: Inspiring Moral stories | D90: Arvind | E90: =INDEX('Borrowing database'!G:G,MATCH(Sheet3!B90&Sheet3!D90,'Borrowing database'!B:B,0)) -> 42860
A91: =COUNTIF('Borrowing database'!F:F,Sheet3!B91) -> 1 | B91: 86 | C91: The wonderland wizard of Oz
A92: =COUNTIF('Borrowing database'!F:F,Sheet3!B92) -> 3 | B92: 87 | C92: Nino and his Mother | D92: Sudhi | E92: =INDEX('Borrowing database'!G:G,MATCH(Sheet3!B92&Sheet3!D92,'Borrowing database'!B:B,0)) -> 42857
A93: =COUNTIF('Borrowing database'!F:F,Sheet3!B93) -> 4 | B93: 88 | C93: Little Bee and Little Butterfly
A94: =COUNTIF('Borrowing database'!F:F,Sheet3!B94) -> 0 | B94: 89 | C94: Looking glass house (Alice through the looking glass)
A95: =COUNTIF('Borrowing database'!F:F,Sheet3!B95) -> 0 | B95: 90 | C95: Shaking, waking, which dreamed it? (Alice through the looking glass)
A96: =COUNTIF('Borrowing database'!F:F,Sheet3!B96) -> 3 | B96: 91 | C96: The pool of Tears (Alice's adventures in wonderland) | D96: Sai | E96: =INDEX('Borrowing database'!G:G,MATCH(Sheet3!B96&Sheet3!D96,'Borrowing database'!B:B,0)) -> 42857
A97: =COUNTIF('Borrowing database'!F:F,Sheet3!B97) -> 3 | B97: 92 | C97: A mad tea-party (Alice's adventures in wonderland) | D97: Alakh | E97: =INDEX('Borrowing database'!G:G,MATCH(Sheet3!B97&Sheet3!D97,'Borrowing database'!B:B,0)) -> 42864
A98: =COUNTIF('Borrowing database'!F:F,Sheet3!B98) -> 2 | B98: 93 | C98: The Lobster Quadrille (Alice's adventures in wonderland) | D98: Jayita | E98: =INDEX('Borrowing database'!G:G,MATCH(Sheet3!B98&Sheet3!D98,'Borrowing database'!B:B,0)) -> 42857
A99: =COUNTIF('Borrowing database'!F:F,Sheet3!B99) -> 2 | B99: 94 | C99: The Queen's Croquet ground (Alice's adventures in wonderland) | D99: Sudhi | E99: =INDEX('Borrowing database'!G:G,MATCH(Sheet3!B99&Sheet3!D99,'Borrowing database'!B:B,0)) -> 42857
A100: =COUNTIF('Borrowing database'!F:F,Sheet3!B100) -> 1 | B100: 95 | C100: Pig & Pepper (Alice's adventures in wonderland)
A101: =COUNTIF('Borrowing database'!F:F,Sheet3!B101) -> 1 | B101: 96 | C101: Wool & Water (Alice through th elooking glass) | D101: Mihika | E101: =INDEX('Borrowing database'!G:G,MATCH(Sheet3!B101&Sheet3!D101,'Borrowing database'!B:B,0)) -> 42867
A102: =COUNTIF('Borrowing database'!F:F,Sheet3!B102) -> 2 | B102: 97 | C102: The Mock Turtle's story (Alice's adventures in wonderland) | D102: Jayita | E102: =INDEX('Borrowing database'!G:G,MATCH(Sheet3!B102&Sheet3!D102,'Borrowing database'!B:B,0)) -> 42857
A103: =COUNTIF('Borrowing database'!F:F,Sheet3!B103) -> 1 | B103: 98 | C103: Looking glass insects (Alice through the looking glass) | D103: Mihika | E103: =INDEX('Borrowing database'!G:G,MATCH(Sheet3!B103&Sheet3!D103,'Borrowing database'!B:B,0)) -> 42867
A104: =COUNTIF('Borrowing database'!F:F,Sheet3!B104) -> 0 | B104: 99 | C104: Advice from a caterpillar (Alice's adventures in wonderland)
A105: =COUNTIF('Borrowing database'!F:F,Sheet3!B105) -> 0 | B105: 100 | C105: Who stole the tarts (Alice's adventures in wonderland)
A106: =COUNTIF('Borrowing database'!F:F,Sheet3!B106) -> 1 | B106: 101 | C106: The Lion and the Unicorn (Alice through the looking glass) | D106: Shantanu | E106: =INDEX('Borrowing database'!G:G,MATCH(Sheet3!B106&Sheet3!D106,'Borrowing database'!B:B,0)) -> 42857
...

Sheet Activities
C2: Date | D2: Activity | E2: Participants
C3: 42923 | D3: Origami art | E3: By Nishna - Ridhima, Mihika, Mishka, Sai, Sudhi
C4: 42928 | D4: Origami art | E4: By Sai - Nishna, Shantanu, Mihika, Tavish
C5: 42929 | D5: Origami art | E5: By Tavish - Kapeesh, Mihika

Sheet Sheet1
